BEGIN:VCALENDAR
VERSION:2.0
PRODID:icalendar-ruby
CALSCALE:GREGORIAN
METHOD:PUBLISH
BEGIN:VEVENT
DTSTAMP:20260424T123107Z
UID:138-665832@kootenayanglican.ca
DTSTART;VALUE=DATE:20261011
DTEND;VALUE=DATE:20261011
CLASS:PUBLIC
CREATED:20260424T042938
DESCRIPTION:Online Services offered by Parishes in our Diocese:\n\nSt Micha
 el &amp\; All Angels Kelowna (Sun\, 10:00am Pacific- YouTube Livestream)\
 nAll Saints Vernon (Sun\, 10:00am Pacific- YouTube Livestream)\nSt Mary's
  East Kelowna (Sun\, 9:30am Pacific- YouTube Livestream)\nSt Saviour's Pe
 nticton (Sun\, 10:00am Pacific- YouTube Livestream)\nSt Saviour's Nelson 
 (Sun\, 10:30am Pacific- YouTube Livestream)\nFernie Shared Ministry (Sun\
 , 10:00am Mountain- Zoom)\nSt.John's Salmon Arm (Sun\, 9:30am Pacific - Zo
 om)\nWindermere Valley Shared Ministry (Sun\, 10:30am Mountain- YouTube L
 ivestream)\n
LAST-MODIFIED:20260424T042938
LOCATION:Online
SUMMARY:Online Service Listings
URL;VALUE=URI:https://www.kootenayanglican.ca/events/online-service-listing
 s/2026-10-11
ATTACH;FILENAME=Online-Services.png;FMTTYPE=image/png:https://dq5pwpg1q8ru0
 .cloudfront.net/2026/02/06/21/25/03/eb3cf1cc-3495-4b8e-945e-85ca544176e5/O
 nline-Services.png
END:VEVENT
END:VCALENDAR
